BEGIN:VCALENDAR
VERSION:2.0
PRODID:-//TUtor International - ECPv6.4.0//NONSGML v1.0//EN
CALSCALE:GREGORIAN
METHOD:PUBLISH
X-WR-CALNAME:TUtor International
X-ORIGINAL-URL:https://tutor-international.de
X-WR-CALDESC:Events for TUtor International
REFRESH-INTERVAL;VALUE=DURATION:PT1H
X-Robots-Tag:noindex
X-PUBLISHED-TTL:PT1H
BEGIN:VTIMEZONE
TZID:Europe/Berlin
BEGIN:DAYLIGHT
TZOFFSETFROM:+0100
TZOFFSETTO:+0200
TZNAME:CEST
DTSTART:20250330T010000
END:DAYLIGHT
BEGIN:STANDARD
TZOFFSETFROM:+0200
TZOFFSETTO:+0100
TZNAME:CET
DTSTART:20251026T010000
END:STANDARD
END:VTIMEZONE
BEGIN:VEVENT
DTSTART;TZID=Europe/Berlin:20250517T180000
DTEND;TZID=Europe/Berlin:20250517T203000
DTSTAMP:20260424T025037
CREATED:20250429T110508Z
LAST-MODIFIED:20250429T110508Z
UID:2560-1747504800-1747513800@tutor-international.de
SUMMARY:Cultural Evening Germany
DESCRIPTION:On the occasion of the European Weeks\, we are organising a special cultural evening: Germany. Join us and get-to-know Germany through a fun & interactive Quiz. \nWhen: 17.05.2025 at 6pm \nWhere: S103/107 \nDE- \nIm Rahmen der Europäischen Wochen organisieren wir eine spezielle Kulturreise: Deutschland. Komm und lerne Deutschland durch ein spaßiges & interaktives Quiz kennen. \nWann: 17.05.2025 um 18 Uhr \nWo: S103/107 \n 
URL:https://tutor-international.de/event/cultural-evening-germany/
LOCATION:S103/107
CATEGORIES:Cultural Evening
END:VEVENT
END:VCALENDAR